BEGIN:VCALENDAR
VERSION:2.0
PRODID:-//Kalypso - ECPv6.15.20//NONSGML v1.0//EN
CALSCALE:GREGORIAN
METHOD:PUBLISH
X-ORIGINAL-URL:https://kalypso.fi
X-WR-CALDESC:Tapahtumat Kalypso
REFRESH-INTERVAL;VALUE=DURATION:PT1H
X-Robots-Tag:noindex
X-PUBLISHED-TTL:PT1H
BEGIN:VTIMEZONE
TZID:Europe/Helsinki
BEGIN:DAYLIGHT
TZOFFSETFROM:+0200
TZOFFSETTO:+0300
TZNAME:EEST
DTSTART:20220327T010000
END:DAYLIGHT
BEGIN:STANDARD
TZOFFSETFROM:+0300
TZOFFSETTO:+0200
TZNAME:EET
DTSTART:20221030T010000
END:STANDARD
BEGIN:DAYLIGHT
TZOFFSETFROM:+0200
TZOFFSETTO:+0300
TZNAME:EEST
DTSTART:20230326T010000
END:DAYLIGHT
BEGIN:STANDARD
TZOFFSETFROM:+0300
TZOFFSETTO:+0200
TZNAME:EET
DTSTART:20231029T010000
END:STANDARD
BEGIN:DAYLIGHT
TZOFFSETFROM:+0200
TZOFFSETTO:+0300
TZNAME:EEST
DTSTART:20240331T010000
END:DAYLIGHT
BEGIN:STANDARD
TZOFFSETFROM:+0300
TZOFFSETTO:+0200
TZNAME:EET
DTSTART:20241027T010000
END:STANDARD
END:VTIMEZONE
BEGIN:VEVENT
DTSTART;VALUE=DATE:20230905
DTEND;VALUE=DATE:20231129
DTSTAMP:20260420T035630
CREATED:20221108T065020Z
LAST-MODIFIED:20230901T112212Z
UID:10000036-1693872000-1701215999@kalypso.fi
SUMMARY:ALKEISUIMAKOULU 4v.alkaen\, Orivesi (Ryhmä 1)
DESCRIPTION:Kalypson alkeisuimakoulussa kehitetään uinnin alkeistaitoja\, joihin kuuluvat veteen totuttelu\, kelluminen\, liukuminen\, sukeltaminen ja alkeisuintityylit. Uusien taitojen opettelu tapahtuu pelien ja leikkien avulla\, musiikin luodessa teeman mukaista tunnelmaa. Lapsi osallistuu tunnille ilman vanhempaa. Yhden opetuskerran pituus on 30 min ja opetus järjestetään lastenaltaassa. Uimakoulussa on mahdollisuus suorittaa kurssin aikana SUH:n varhaistaito- tai vesitaitomerkki. \nLähtötasovaatimus\nOsallistuakseen kurssille lapsen tulee osata toimia ryhmässä uimaopettajan ohjeiden mukaan ilman oman vanhemman tukea. On myös hyvä\, että lapselle vedessä liikkuminen on tuttua ja mukavaa puuhaa. \nAlkeisuimakoulu 4v. alkaen Orivesi kausi (12krt) ti 5.9.2023-28.11.2023 klo 17.15-17.45 (vk 42 ei tunteja)\nAlkeisuimakoulu 4v. alkaen Orivesi jakso (6vk) ti 5.9.2023-10.10.2023 klo 17.15-17.45\nAlkeisuimakoulu 4v. alkaen Orivesi jakso (6vk) ti 24.10.2023-28.11.2023 klo 17.15-17.45
URL:https://kalypso.fi/event/alkeisuimakoulu-4v-alkaen-orivesi/
LOCATION:Orivesi\, Koulutie 3\, Orivesi\, 35300\, Finland
END:VEVENT
BEGIN:VEVENT
DTSTART;VALUE=DATE:20230905
DTEND;VALUE=DATE:20231129
DTSTAMP:20260420T035630
CREATED:20221108T070349Z
LAST-MODIFIED:20230901T113621Z
UID:10000020-1693872000-1701215999@kalypso.fi
SUMMARY:AIKUISTEN TEKNIIKKAKURSSI 1\, Orivesi
DESCRIPTION:Kalypson aikuisille tarkoitetulla tekniikkakurssilla opetellaan selkä-\, rinta- ja krooliuinnin tekniikoiden perusteita ja hiotaan uintitekniikkaa yhä sujuvammaksi.Tunneilla harjoitellaan oikeaa uintiasentoa ja hengitystekniikkaa. Kurssilla tutustutaan myös eri uintilajien käännöksiin ja startteihin sekä pelastusuintiin uintiharjoitteiden kautta. Kurssin aikana on mahdollisuus suorittaa SUH:n taito- tai matkamerkkejä. \nLähtötasovaatimus\nOsallistuakseen kurssille on hyvä osata uida vähintään 100 m yhtäjaksoisesti syvässä altaassa sekä uskaltaa sukeltaa. \nAikuisten tekniikkakurssi 1 Orivesi kausi (12krt)\, ti 5.9.2023.-28.11.2023 klo 19.00-19.45.\nAikuisten tekniikkakurssi 1 Orivesi jakso (6vk)\, ti 5.9.2023.-10.10.2023 klo 19.00-19.45.\nAikuisten tekniikkakurssi 1 Orivesi jakso (6vk)\, ti 24.10.2023.-28.11.2023 klo 19.00-19.45.
URL:https://kalypso.fi/event/aikuisten-tekniikkakurssi-1-orivesi/
LOCATION:Orivesi\, Koulutie 3\, Orivesi\, 35300\, Finland
END:VEVENT
BEGIN:VEVENT
DTSTART;VALUE=DATE:20230905
DTEND;VALUE=DATE:20231129
DTSTAMP:20260420T035630
CREATED:20221108T070102Z
LAST-MODIFIED:20230901T113848Z
UID:10000038-1693872000-1701215999@kalypso.fi
SUMMARY:LASTEN TEKNIIKKAKOULU 7v. alkaen\, Orivesi
DESCRIPTION:Kalypson lasten tekniikkakoulussa kehitetään uimataitoa ja valmiuksia uida syvässä altaassa. Kurssin aikana on tavoitteena oppia uimaan yhtäjaksoisesti ainakin 25m myyräuintia ja 25m alkeisselkäuintia. Lisäksi harjoitellaan delfiiniuinnin potkuja sekä rintauinnin ja krooliuinnin alkeita. Tunneilla opetellaan tekemään myös uimahyppyjä\, syvyyssukellusta\, pituussukellusta ja keräkaatoa. Opetus tapahtuu terapia-altaassa ja osin syvässä altaassa. Uimakoulun aikana on mahdollista suorittaa SUH:n alkeis- tai harrastusmerkki. \nLähtötasovaatimus\nOsallistuakseen kurssille lapsen tulee jaksaa uida 15m vatsallaan myyräuintia oikealla hengitystekniikalla ja selällään alkeisselkäuintia. Lapsi osaa sukeltaa noin 90 m syvyyteen ja rohkenee hypätä jalat edellä syvään altaaseen. \nLasten tekniikkakoulu 7v. alkaen Orivesi\, kausi (12krt) ti 5.9.2023.-28.11.2023 klo 18.25-18.55 (vk 42 ei tunteja).\nLasten tekniikkakoulu 7v. alkaen Orivesi\, jakso (6vk) ti 5.9.2023.-10.10.2023 klo 18.25-18.55.\nLasten tekniikkakoulu 7v. alkaen Orivesi\, jakso (6vk) ti 24.10.2023.-29.11.2023 klo 18.25-18.55.
URL:https://kalypso.fi/event/lasten-tekniikkakoulu-7v-alkaen-orivesi/
LOCATION:Orivesi\, Koulutie 3\, Orivesi\, 35300\, Finland
END:VEVENT
BEGIN:VEVENT
DTSTART;VALUE=DATE:20230905
DTEND;VALUE=DATE:20231129
DTSTAMP:20260420T035630
CREATED:20221108T065735Z
LAST-MODIFIED:20230901T114111Z
UID:10000037-1693872000-1701215999@kalypso.fi
SUMMARY:UIMAKOULU 6v. alkaen\, Orivesi
DESCRIPTION:Kalypson uimakoulussa harjoitellaan uinnin alkeita kuten uintiasentoa\, hengitystä ja potkuja. Tavoitteena on oppia kellumaan\, liukumaan\, sukeltamaan aarteita altaan pohjasta\, hyppäämään jalat edellä opetusaltaaseen ja saavuttaa noin 15 m uimataito sekä vatsallaan (myyräuintia) että selällään (alkeisselkäuintia) uiden. Uusien taitojen opettelu tapahtuu pelien ja leikkien avulla\, musiikin luodessa teeman mukaista tunnelmaa. Uimakoulun aikana on mahdollista suorittaa SUH:n alkeismerkki. Opetus tapahtuu pääosin terapia-altaassa\, mutta käymme tutustumassa myös muihin altaisiin. \nLähtötasovaatimus\nUimakouluryhmään osallistuessaan lapsi ei pelkää vettä ja osaa sekä uskaltaa mennä kokonaan veden pinnan alle. Lapsi hallitsee kellunnan\, liu’un ja sukeltamisen sekä osaa uida ilman apuvälinettä vähintään 5 m myyräuintia ja alkeisselkäuintia. Osallistuakseen kurssille lapsen tulee osata toimia ryhmässä uimaopettajan ohjeiden mukaan. \nUimakoulu 6v. alkaen Orivesi kausi (12krt) ti 5.9.2023-28.11.2023 klo 17.50-18.20\nUimakoulu 6v. alkaen Orivesi jakso (6vk) ti 5.9.2023-10.10.2023 klo 17.50-18.20\nUimakoulu 6v. alkaen Orivesi jakso (6vk) ti 24.10.2023.-28.11.2023 klo 17.50-18.20
URL:https://kalypso.fi/event/uimakoulu-6v-alkaen-orivesi/
LOCATION:Orivesi\, Koulutie 3\, Orivesi\, 35300\, Finland
END:VEVENT
BEGIN:VEVENT
DTSTART;VALUE=DATE:20230117
DTEND;VALUE=DATE:20230419
DTSTAMP:20260420T035630
CREATED:20221107T081956Z
LAST-MODIFIED:20230306T040337Z
UID:10000035-1673913600-1681862399@kalypso.fi
SUMMARY:Vedenhaltijakoulu\, Orivesi
DESCRIPTION:Vedenhaltijakoulu on elämyksellistä vesiliikuntaa monoräpylällä uiden. Tunneilla harjoitellaan merenneitouinnin tekniikkaa ja erilaisia vedenhaltijatemppuja. Tunti rakentuu alkulämmittelyleikeistä\, uinti-\, sukellus-\, vesitanssi- ja vesiturvallisuusharjoituksista sekä vapaasta uiskentelusta pyrstön kanssa. Vedenhaltijakoululaiset pääsevät myös esiintymään Kalypson näytöksissä. \nJärjestämme Vedenhaltijakoulua pääasiassa uimataitoisille lapsille ja aikuisille. Tarjoamme kuitenkin myös pienten lasten merenneitouintia 5–8-vuotiaille\, jossa uimataitoa ei vaadita. \nTunnit pidetään Oriveden uimahallilla. \nAjankohdat:\n\nTiistai\, Oriveden uimahalli\, allas\, kurssi (6vk)\, 24.1.- 28.2.2023 klo 18.30-19.00\nTiistai\, Oriveden uimahalli\, allas\, kurssi (7vk)\, 7.3.- 18.4.2023 klo 18.30-19.00\n\nHuom! Jos ostat kausilipun\, ostat pääsyn kaikille kauden ”Vedenhaltijakoulu\, Orivesi” tunneille (18 kertaa).
URL:https://kalypso.fi/event/vedenhaltijakoulu-orivesi/
LOCATION:Orivesi\, Koulutie 3\, Orivesi\, 35300\, Finland
END:VEVENT
END:VCALENDAR