BEGIN:VCALENDAR
VERSION:2.0
PRODID:-//Kalypso - ECPv6.15.20//NONSGML v1.0//EN
CALSCALE:GREGORIAN
METHOD:PUBLISH
X-WR-CALNAME:Kalypso
X-ORIGINAL-URL:https://kalypso.fi
X-WR-CALDESC:Tapahtumat Kalypso
REFRESH-INTERVAL;VALUE=DURATION:PT1H
X-Robots-Tag:noindex
X-PUBLISHED-TTL:PT1H
BEGIN:VTIMEZONE
TZID:Europe/Helsinki
BEGIN:DAYLIGHT
TZOFFSETFROM:+0200
TZOFFSETTO:+0300
TZNAME:EEST
DTSTART:20240331T010000
END:DAYLIGHT
BEGIN:STANDARD
TZOFFSETFROM:+0300
TZOFFSETTO:+0200
TZNAME:EET
DTSTART:20241027T010000
END:STANDARD
BEGIN:DAYLIGHT
TZOFFSETFROM:+0200
TZOFFSETTO:+0300
TZNAME:EEST
DTSTART:20250330T010000
END:DAYLIGHT
BEGIN:STANDARD
TZOFFSETFROM:+0300
TZOFFSETTO:+0200
TZNAME:EET
DTSTART:20251026T010000
END:STANDARD
BEGIN:DAYLIGHT
TZOFFSETFROM:+0200
TZOFFSETTO:+0300
TZNAME:EEST
DTSTART:20260329T010000
END:DAYLIGHT
BEGIN:STANDARD
TZOFFSETFROM:+0300
TZOFFSETTO:+0200
TZNAME:EET
DTSTART:20261025T010000
END:STANDARD
BEGIN:DAYLIGHT
TZOFFSETFROM:+0200
TZOFFSETTO:+0300
TZNAME:EEST
DTSTART:20270328T010000
END:DAYLIGHT
BEGIN:STANDARD
TZOFFSETFROM:+0300
TZOFFSETTO:+0200
TZNAME:EET
DTSTART:20271031T010000
END:STANDARD
END:VTIMEZONE
BEGIN:VEVENT
DTSTART;VALUE=DATE:20260224
DTEND;VALUE=DATE:20260225
DTSTAMP:20260421T204828
CREATED:20260210T191345Z
LAST-MODIFIED:20260223T171649Z
UID:10000177-1771891200-1771977599@kalypso.fi
SUMMARY:Mäntän merenneitopäivä hiihtolomalla ti 24.2.2026
DESCRIPTION:Lähde matkalle merenneitojen maailmaan osallistumalla Kalypson merenneitouintiin. Järjestämme lajin esittelyn Mäntän uimahallissa ja ryhmiä on tarjolla eri ikäisille ja taitoisille uimareille. Varaa paikkasi tunnille ostamalla lippu verkkokaupastamme. Hinta 20 € sisältää myös uimahallin sisäänpääsymaksun. \nMerenneitopäivän ryhmät: \nMERENNEITOUINNIN VARHAISTAIDOT 4-6 vuotiaille uimataidottomille lastenaltaassa klo 16.30-17.00. Kesto 30min. Tässä ryhmässä tutustutaan merenneitouintiin pelien\, leikkien\, vesitanssin ja uintitehtävien avulla. Ryhmässä puetaan merenneidonpyrstöt ilman monofin-räpylää. Ryhmään osallistuva lapsi ei pelkää vettä ja pystyy osallistumaan ilman vanhempaa.  \nMERENNEITOUINNIN ALKEET 7-12-vuotiaille terapia-altaassa klo 17.10-18.40. Kesto 30 min. Tässä ryhmässä tutustutaan merenneitouinnin alkeisiin pelien\, leikkien\, vesitanssin ja uintitehtävien avulla. Tunnilla uidaan koko ajan merenneidonpyrstöllä\, jossa on monofin-räpylä. Tähän ryhmään osallistuva lapsi osaa sukeltaa ja ui ilman apuvälinettä tai apuvälineen kanssa 15 m yhtäjaksoisesti. \nTapahtumapaikka: Mäntän uimahalli\nOsoite: Miinanpellonkatu 4\,\n35800 Mänttä \nTiedustelut tapahtumasta: Pirita Lemponen\, puh. 050 4301103 tai info@kalypso.fi
URL:https://kalypso.fi/event/mantan-merenneitopaiva-hiihtolomalla-ti-24-2-2026/
LOCATION:Mäntän uimahalli\, Miinanpellonkatu 4\, 35800\, Finland
END:VEVENT
BEGIN:VEVENT
DTSTART;VALUE=DATE:20251018
DTEND;VALUE=DATE:20251019
DTSTAMP:20260421T204828
CREATED:20250315T130548Z
LAST-MODIFIED:20251002T170855Z
UID:10000117-1760745600-1760831999@kalypso.fi
SUMMARY:Mäntän merenneitopäivä la 18.10.2025
DESCRIPTION:Lähde matkalle merenneitojen maailmaan osallistumalla Kalypson merenneitouintiin. Järjestämme lajin esittelyn Mäntän uimahallissa ja ryhmiä on tarjolla eri ikäisille ja taitoisille uimareille. Varaa paikkasi tunnille ostamalla lippu verkkokaupastamme. Hinta 20 € sisältää myös uimahallin sisäänpääsymaksun. \nMerenneitopäivän ryhmät: \nMERENNEITOUINNIN VARHAISTAIDOT 4-6 vuotiaille lastenaltaassa\, ensimmäinen ryhmä klo 13.15–13.45\, toinen ryhmä klo 13.55–14.25. Kesto 30min. Tässä ryhmässä tutustutaan merenneitouintiin pelien\, leikkien\, vesitanssin ja uintitehtävien avulla. Ryhmässä puetaan merenneidonpyrstöt ilman monofin-räpylää. Ryhmään osallistuva lapsi ei pelkää vettä ja pystyy osallistumaan ilman vanhempaa.  \nMERENNEITOUINNIN ALKEET 7-12-vuotiaille terapia-altaassa klo 14.40-15.15. Kesto 35 min. Tässä ryhmässä tutustutaan merenneitouinnin alkeisiin pelien\, leikkien\, vesitanssin ja uintitehtävien avulla. Tunnilla uidaan koko ajan merenneidonpyrstöllä\, jossa on monofin-räpylä. Tähän ryhmään osallistuva lapsi osaa sukeltaa ja ui ilman apuvälinettä tai apuvälineen kanssa 15 m yhtäjaksoisesti. \nMERENNEITOUINNIN ALKEET nuoret ja aikuiset kuntoaltaan uimaradalla klo 15.25-16.00. Kesto 35 min. Tässä ryhmässä harjoitellaan merenneitouinnin alkeita ja tehtävissä edetään uimareiden taitojen mukaan. Tunti sisältää uinti- ja sukellustehtäviä sekä merenneitotemppuja. Tunnilla uidaan koko ajan merenneidonpyrstöllä\, jossa on monofin-räpylä. Tähän ryhmään osallistuva ui syvässä altaassa ilman apuvälineitä 50 m ja osaa sukeltaa. \nTapahtumapaikka: Mäntän uimahalli\nOsoite: Miinanpellonkatu 4\,\n35800 Mänttä \nTiedustelut tapahtumasta: Pirita Lemponen\, puh. 050 4301103 tai info@kalypso.fi
URL:https://kalypso.fi/event/mantan-merenneitopaiva-la-29-3-2025/
LOCATION:Mäntän uimahalli\, Miinanpellonkatu 4\, 35800\, Finland
END:VEVENT
END:VCALENDAR