BEGIN:VCALENDAR
VERSION:2.0
PRODID:-//Kalypso - ECPv6.15.20//NONSGML v1.0//EN
CALSCALE:GREGORIAN
METHOD:PUBLISH
X-ORIGINAL-URL:https://kalypso.fi
X-WR-CALDESC:Tapahtumat Kalypso
REFRESH-INTERVAL;VALUE=DURATION:PT1H
X-Robots-Tag:noindex
X-PUBLISHED-TTL:PT1H
BEGIN:VTIMEZONE
TZID:Europe/Helsinki
BEGIN:DAYLIGHT
TZOFFSETFROM:+0200
TZOFFSETTO:+0300
TZNAME:EEST
DTSTART:20210328T010000
END:DAYLIGHT
BEGIN:STANDARD
TZOFFSETFROM:+0300
TZOFFSETTO:+0200
TZNAME:EET
DTSTART:20211031T010000
END:STANDARD
BEGIN:DAYLIGHT
TZOFFSETFROM:+0200
TZOFFSETTO:+0300
TZNAME:EEST
DTSTART:20220327T010000
END:DAYLIGHT
BEGIN:STANDARD
TZOFFSETFROM:+0300
TZOFFSETTO:+0200
TZNAME:EET
DTSTART:20221030T010000
END:STANDARD
BEGIN:DAYLIGHT
TZOFFSETFROM:+0200
TZOFFSETTO:+0300
TZNAME:EEST
DTSTART:20230326T010000
END:DAYLIGHT
BEGIN:STANDARD
TZOFFSETFROM:+0300
TZOFFSETTO:+0200
TZNAME:EET
DTSTART:20231029T010000
END:STANDARD
BEGIN:DAYLIGHT
TZOFFSETFROM:+0200
TZOFFSETTO:+0300
TZNAME:EEST
DTSTART:20240331T010000
END:DAYLIGHT
BEGIN:STANDARD
TZOFFSETFROM:+0300
TZOFFSETTO:+0200
TZNAME:EET
DTSTART:20241027T010000
END:STANDARD
END:VTIMEZONE
BEGIN:VEVENT
DTSTART;VALUE=DATE:20230114
DTEND;VALUE=DATE:20230528
DTSTAMP:20260420T022244
CREATED:20220822T080756Z
LAST-MODIFIED:20230415T101618Z
UID:10000033-1673654400-1685231999@kalypso.fi
SUMMARY:Vedenhaltijakoulu varhaistaidot (5-8v.)\, Nokia
DESCRIPTION:Tämä ryhmä on tarkoitettu 5-8-vuotiaille. Tässä pienten lasten merenneitouintiryhmässä uimataitoa ei vaadita. \nVedenhaltijakoulu on elämyksellistä vesiliikuntaa monoräpylällä uiden. Tunneilla harjoitellaan merenneitouinnin tekniikkaa ja erilaisia vedenhaltijatemppuja. Tunti rakentuu alkulämmittelyleikeistä\, uinti-\, sukellus-\, vesitanssi- ja vesiturvallisuusharjoituksista sekä vapaasta uiskentelusta pyrstön kanssa. Vedenhaltijakoululaiset pääsevät myös esiintymään Kalypson näytöksissä. \nTunnit pidetään Nokian uimahallilla. \nAjankohdat: \n\nVedenhaltijakoulu varhaistaidot (5-8v.)\, Nokia\, kausi\, la 14.1.2023.-27.5.2023 klo 9.00-9.30\nVedenhaltijakoulu varhaistaidot (5-8v.)\, Nokia\, kurssi (6vk)\, la 11.3.2023.-15.4.2023 klo 9.00-9.30\nVedenhaltijakoulu varhaistaidot (5-8v.)\, Nokia\, kurssi (6vk)\, la 22.4.2023.-27.5.2023 klo 9.00-9.30\n\nHuom! Jos ostat kausilipun\, ostat pääsyn kaikille kauden ”Vedenhaltijakoulu\, Nokia” tunneille.
URL:https://kalypso.fi/event/vedenhaltijakoulu-merenneito-5-8v-nokia/
END:VEVENT
BEGIN:VEVENT
DTSTART;VALUE=DATE:20230113
DTEND;VALUE=DATE:20230528
DTSTAMP:20260420T022244
CREATED:20220801T132806Z
LAST-MODIFIED:20230511T191629Z
UID:10000031-1673568000-1685231999@kalypso.fi
SUMMARY:Kalypson perheuinti\, Nokia
DESCRIPTION:Kalypson perheuinti on vanhemman ja lapsen yhteinen uintituokio lämpimässä vedessä alkeisuinnin taitoja harjoitellen. Tunnit soveltuvat 3kk–3-vuotiaille lapsille. Altaalla totuttaudutaan veteen ja harjoitellaan lapsen iän sekä taitojen mukaan kastautumista\, kelluntoja\, liukuja\, sukelluksia ja alkeisuintia. Tunneilla ohjaus tapahtuu leikkien ja tarinoiden avulla\, tunnelmamusiikin soidessa taustalla. Ryhmä kokoontuu kerran viikossa. Palvelun toiminnot on suunniteltu lapsen ja oman aikuisen yhdessä tehtäviksi. \n Varaus sisältää yhden lapsen ja aikuisen osallistumisen.  \n Toimintaa järjestetään Nokian uimahallissa. \nAjankohdat:.\n\nKalypson perheuinti\, Nokia\, kurssi (6vk)\, la 22.4.2023 – 27.5.2023 klo 9.35-10.05.\n\n 
URL:https://kalypso.fi/event/vesilastentanssi-nokia/
END:VEVENT
BEGIN:VEVENT
DTSTART;VALUE=DATE:20230113
DTEND;VALUE=DATE:20230527
DTSTAMP:20260420T022244
CREATED:20220801T101728Z
LAST-MODIFIED:20230415T102050Z
UID:10000024-1673568000-1685145599@kalypso.fi
SUMMARY:Vedenhaltijakoulu keskitaso\, Nokia
DESCRIPTION:Tämä ryhmä on tarkoitettu 9+ vuotiaille \nVedenhaltijakoulu on elämyksellistä vesiliikuntaa monoräpylällä uiden. Tunneilla harjoitellaan merenneitouinnin tekniikkaa ja erilaisia vedenhaltijatemppuja. Tunti rakentuu alkulämmittelyleikeistä\, uinti-\, sukellus-\, vesitanssi- ja vesiturvallisuusharjoituksista sekä vapaasta uiskentelusta pyrstön kanssa. Vedenhaltijakoululaiset pääsevät myös esiintymään Kalypson näytöksissä. Harrastus sopii kaikille uimataitoisille lapsille ja nuorille. \nTunnit pidetään Nokian uimahallilla. \nAjankohdat: \n\n\n\nVedenhaltijakoulu keskitaso\, Nokia\, kurssi (6vk)\, pe 28.4.2023.-26.5.2023 klo 18.30–19.00 (viimeisellä kerralla on kevätnäytös ja kenraali eli 2x 30 min ohjausta).\n\n\n\nHuom! Jos ostat kausilipun\, ostat pääsyn kaikille kauden ”Vedenhaltijakoulu\, Nokia” tunneille.
URL:https://kalypso.fi/event/vedenhaltijakoulu/
END:VEVENT
BEGIN:VEVENT
DTSTART;VALUE=DATE:20230111
DTEND;VALUE=DATE:20230413
DTSTAMP:20260420T022244
CREATED:20221104T123903Z
LAST-MODIFIED:20230204T162410Z
UID:10000034-1673395200-1681343999@kalypso.fi
SUMMARY:Vedenhaltijakoulu (yli 9v)\, Tampere
DESCRIPTION:Tämä ryhmä on tarkoitettu 9+ vuotiaille \nVedenhaltijakoulu on elämyksellistä vesiliikuntaa monoräpylällä uiden. Tunneilla harjoitellaan merenneitouinnin tekniikkaa ja erilaisia vedenhaltijatemppuja. Tunti rakentuu alkulämmittelyleikeistä\, uinti-\, sukellus-\, vesitanssi- ja vesiturvallisuusharjoituksista sekä vapaasta uiskentelusta pyrstön kanssa. Vedenhaltijakoululaiset pääsevät myös esiintymään Kalypson näytöksissä. Harrastus sopii kaikille uimataitoisille lapsille ja nuorille. \nTunnit pidetään Tampereen uimahallilla. \nAjankohdat: \nVedenhaltijakoulu (yli 9v)\, Tampere\, kurssi (7vk)\, ke 11.1.-22.2.2023 klo 16.30-17.00\nVedenhaltijakoulu (yli 9v)\, Tampere\, kurssi (7vk)\, ke 1.3.-12.4.2023 klo 16.30-17.00 \n 
URL:https://kalypso.fi/event/vedenhaltijakoulu-tampere/
LOCATION:Tampere\, Varalankatu 36\, Tampere\, 33240\, Finland
END:VEVENT
BEGIN:VEVENT
DTSTART;VALUE=DATE:20220816
DTEND;VALUE=DATE:20221211
DTSTAMP:20260420T022244
CREATED:20220801T094336Z
LAST-MODIFIED:20221002T172448Z
UID:10000027-1660608000-1670716799@kalypso.fi
SUMMARY:Aikuisten Vesibaletti
DESCRIPTION:Vesibaletti on iloisen loiskuvaa vesiliikuntaa lapsille ja aikuisille. Vesibalettitunneilla keskitytään pääasiassa klassisen baletin tekniikan harjoitteluun tankosarjojen avulla veden vastusta hyödyntäen. Vesibalettia harrastaessa lihaskunto\, kehonhallinta ja liikkuvuus kehittyvät. Aikuisten palvelu on terapia-altaassa Nokialla ja Ylöjärvellä. Palvelu sopii hyvin myös kuntouttavana harjoituksena tanssijoille\, luistelijoille ja voimistelijoille\, joilla on jokin urheiluvamma. \nAikuisten Vesibaletti yli 12-vuotiaille ja aikuisille. \nAjankohdat: \nHuom! Jos ostat kertalipun\, olethan yhteydessä meihin osoitteeseen info@kalypso.fi tai +358 50 430 1103 niin sovitaan ajankohta erikseen. Jos ostat kausilipun\, ostat pääsyn kaikille kauden ”Aikuisten Vesibaletti” tunneille. \n 
URL:https://kalypso.fi/event/vesibaletti-2/
END:VEVENT
END:VCALENDAR